
BEGIN:VCALENDAR
METHOD:PUBLISH
VERSION:2.0
CALSCALE:GREGORIAN
PRODID:-//NONSGML Sandhills Development\, LLC//NONSGML Sugar Calendar Fe
 eds v1.3.1//EN
X-WR-CALNAME:Skyline Elite Girls @ NVA
X-WR-CALDESC:Skyline Elite Soccer Club
X-WR-TIMEZONE:America/New_York
BEGIN:VTIMEZONE
TZID:America/New_York
BEGIN:DAYLIGHT
TZOFFSETFROM:-0500
TZOFFSETTO:-0400
DTSTART:20260308T070000
TZNAME:EDT
END:DAYLIGHT
END:VTIMEZONE
BEGIN:VTIMEZONE
TZID:America/New_York
BEGIN:DAYLIGHT
TZOFFSETFROM:-0500
TZOFFSETTO:-0400
DTSTART:20260308T070000
TZNAME:EDT
END:DAYLIGHT
END:VTIMEZONE
BEGIN:VEVENT
SUMMARY:Skyline Elite Girls @ NVA
DESCRIPTION:
URL;VALUE=URI:https://www.skylineelitesc.org/events/skyline-elite-girls-
 nva/
UID:urn:uuid:5a509c1d-704b-46ff-93f3-d82dbcfc286b
STATUS:CONFIRMED
ORGANIZER:
DTSTAMP:20260422T103711Z
DTSTART;VALUE=DATE:20260510
END:VEVENT
END:VCALENDAR